Workbook

Sheet Instrucciones
A1: AYUNTAMIENTOS, COMARCAS Y DIPUTACIONES. | B1: El responsable del personal, completará los datos de los trabajadores de los centros educativos municipales o comarcales en la hoja "DOCENTES" para el profesorado y "NO DOCENTES" para otro personal, incuyendo sólo aquellas personas que desarrollan su jornada laboral, total o parcialmente, en los centros educativos autorizados durante el presente curso académico, así como del personal contratado para sustituirles en ausencia del titular.
B2: Es necesario completar los datos requeridos en la hoja "NOMBRE CORPORACIÓN"
B3: Completar una línea por trabajador-a.
B4: Deben de figurar datos en todos los campos de la hoja, salvo que se desconozca el número CIA, para lo cuál el NIF/NIE será la única forma de identificar al trabajador.
B5: Ante la ausencia de alguno de los datos solicitados, excepto en el caso del CIA si se desconoce o del segundo apellido si no consta, el trabajador no se incluirá en el proceso de vacunación priorizado.
B6: Una vez completados los datos, se remitirá este fichero de acuerdo con las instrucciones recibidas. El archivo deberá ser nombrado con, al menos, el nombre de la localidad.
B7: CÓDIGO DE CENTRO | C7: Insertar el código del centro educativo donde el trabajador ejerce su labor . En el caso de que el trabajador desarrolle su labor en varios centros consignar únicamente en el que ejerza la mayor parte de la jornada laboral. Existe una hoja de Códigos de centros educativos en esta misma excel para consultar.
B8: NIF/NIE | C8: Insertar el NIF/NIE del trabajador-a. Sólo caracteres con letras en mayúsculas, sin espacios ni guiones. Si el dato introducido no corresponde con el cálculo de la letra del NIF/NIE, o esta se introduce en minúsculas, la celda se mostrará en rojo indicando que el dato es incorrecto.
B9: NOMBRE | C9: Consignar estos datos en las celdas correspondientes por separado. El dato de Apellido2 sólo se consignará para el personal que cuenta con ese dato.
B10: APELLIDO1
B11: APELLIDO2
B12: Fecha de nacimiento | C12: Formato dd/mm/aaaa
B13: Sexo | C13: Masculino | D13: Femenino | E13: No contesta | I13: Estos datos permiten la introducción seleccionando del desplegable lateral.
B14: CATEGORÍA | C14: En la hoja de DOCENTES la única opción es "DOCENTE". En la hoja de "NO DOCENTES" la única opción es "NO DOCENTE".
B15: Tipo de enseñanza | C15: Consignar código respecto del desplegable que aparece en la celda. Si el trabajador ejerce sus funciones en más de una enseñanza de las listadas, consignar la que corresponde al alumnado de menor edad o de Educación Especial si es el caso.
B16: CIA | C16: Código de Indetificación Autonómico que empieza por las letras "AR". Este número está consignado en la Tarjeta Sanitaria del Trabajador. Para las personas que pertenecen a otras mutualidades (MUFACE) Sanidad les ha asignado también un número AR. En caso de desconocer este dato no es necesario introducirlo. Desde Sanidad se asociará con el dato del NIF/NIE del trabajador, por lo que se ruega comprobar que el NIF/NIE se introduce correctamente. Si el trabajador no tiene asociado un centro de Salud aragonés, como titular o desplazado, no podrá recibir la vacunación en este proceso de priorización de colectivos.
B19: Tipos de enseñanza.
B20: EDUCACIÓN ESPECIAL
B21: INFANTIL
B22: INFANTIL Y PRIMARIA
B23: PRIMARIA
B24: SECUNDARIA
B25: FORMACIÓN PROFESIONAL
B26: RESTO DE ENSEÑANZAS
B56: DOCENTE
B57: NO DOCENTE

Sheet Códigos de centros educativos
A1: CÓDIGO DE CENTRO | B1: denominacionGenerica | C1: naturaleza | D1: nombreCentro | E1: descripcionCentro | F1: domicilio | G1: codpostal | H1: localidad | I1: municipio | J1: provincia
A2: 22000056 | B2: Colegio Rural Agrupado | C2: Centro público | D2: VERO-ALCANADRE | E2: Vero-Alcanadre (C.R.A. Adahuesca) | F2: Avda. .De Santiago Foncillas, S/N | G2: 22147 | H2: Adahuesca | I2: Adahuesca | J2: Huesca
A3: 22010785 | B3: Escuela de Educación Infantil | C3: Centro público | D3: TREVIÑER | E3: Adahuesca (E.E.I. Adahuesca) | F3: AVDA. Santiago Foncillas, 9 | G3: 22147 | H3: Adahuesca | I3: Adahuesca | J3: Huesca
A4: 22005340 | B4: Colegio de Educación Infantil y Primaria | C4: Centro público | D4: VALLE DEL GUARGA | E4: Valle del Guarga (C.P. Aineto) | F4: Cl. San Francisco de Asís, S/N | G4: 22623 | H4: Aineto | I4: Sabiñánigo | J4: Huesca
A5: 22000071 | B5: Colegio de Educación Infantil y Primaria | C5: Centro público | D5: ASUNCIÓN PAÑART MONTANER | E5: Asunción Pañart Montaner (C.P. Aínsa) | F5: Cl. Cortes De Aragón, 1-3 | G5: 22330 | H5: Aínsa | I5: Aínsa-Sobrarbe | J5: Huesca
A6: 22010451 | B6: Escuela Pública de Música | C6: Centro público | D6: JOSE MARÍA CAMPO | E6: Escuela de Música de Aínsa (Aínsa) | F6: CL. CORTES DE ARAGÓN, Nº 3 | G6: 22330 | H6: Aínsa | I6: Aínsa-Sobrarbe | J6: Huesca
A7: 22010724 | B7: Escuela de Educación Infantil | C7: Centro público | D7: DE LA COMARCA DE SOBRARBE | E7: La Comarca del Sobrarbe (E.E.I. Ainsa) | F7: Pº. DE LOS NAVATEROS, S/N | G7: 22330 | H7: Aínsa | I7: Aínsa-Sobrarbe | J7: Huesca
A8: 22005674 | B8: Colegio Rural Agrupado | C8: Centro público | D8: LA LLITERA | E8: La Llitera (C.R.A. Albelda) | F8: Cl. Granero, S/N | G8: 22558 | H8: Albelda | I8: Albelda | J8: Huesca
A9: 22010062 | B9: Escuela de Educación Infantil | C9: Centro público | D9: LO NIU | E9: Albelda (E.E.I. Albelda) | F9: Cl. Lorenzo Barea, 4 | G9: 22558 | H9: Albelda | I9: Albelda | J9: Huesca
A10: 22010517 | B10: Escuela de Educación Infantil | C10: Centro público | D10: DE ALCAMPELL | E10: DE ALCAMPELL(Alcampell) | F10: CL. LA LITERA, 15 | G10: 22560 | H10: Alcampell | I10: Alcampell | J10: Huesca
A11: 22000251 | B11: Colegio de Educación Infantil y Primaria | C11: Centro público | D11: JOSÉ MANUEL BLECUA | E11: José Manuel Blecua (C.P. Alcolea de Cinca) | F11: Avda. Autonomía De Aragón, S/N | G11: 22410 | H11: Alcolea de Cinca | I11: Alcolea de Cinca | J11: Huesca
A12: 22010748 | B12: Escuela de Educación Infantil | C12: Centro público | D12: SANTA CATALINA | E12: Alcolea de Cinca (E.E.I. Alcolea de Cinca) | F12: AVDA. DE LA CONSTITUCIÓN, S/N | G12: 22410 | H12: Alcolea de Cinca | I12: Alcolea de Cinca | J12: Huesca
A13: 22010682 | B13: Escuela de Educación Infantil | C13: Centro público | D13: DE ALCUBIERRE | E13: Alcubierre (E.E.I. Alcubierre) | F13: CL. Herrería, S/N | G13: 22251 | H13: Alcubierre | I13: Alcubierre | J13: Huesca
... A635: 50019184 | B635: Escuela Pública de Música | C635: Centro público | D635: VILLA DE ZUERA | E635: Villa de Zuera (Zuera) | F635: CL. CRUZ CUBIERTA, 1 | G635: 50800 | H635: Zuera | I635: Zuera | J635: Zaragoza
A636: 50019664 | B636: Escuela de Educación Infantil | C636: Centro público | D636: LA ALMADA | E636: VILLAREAL DE HUERVA(EEI ALMADA) | G636: 50490 | H636: VILLARREAL DE HUERVA | I636: VILLARREAL DE HUERVA | J636: ZARAGOZA

Sheet DOCENTES
A1: CÓDIGO DE CENTRO | B1: NIF/NIE | C1: NOMBRE | D1: APELLIDO1 | E1: APELLIDO2 | F1: Fecha de nacimiento | G1: Sexo | H1: CATEGORÍA | I1: Tipo de enseñanza | J1: CIA
H2: =IF(B2<>"",Instrucciones!B$56,"")
H3: =IF(B3<>"",Instrucciones!B$56,"")
H4: =IF(B4<>"",Instrucciones!B$56,"")
H5: =IF(B5<>"",Instrucciones!B$56,"")
H6: =IF(B6<>"",Instrucciones!B$56,"")
H7: =IF(B7<>"",Instrucciones!B$56,"")
H8: =IF(B8<>"",Instrucciones!B$56,"")
H9: =IF(B9<>"",Instrucciones!B$56,"")
H10: =IF(B10<>"",Instrucciones!B$56,"")
H11: =IF(B11<>"",Instrucciones!B$56,"")
H12: =IF(B12<>"",Instrucciones!B$56,"")
H13: =IF(B13<>"",Instrucciones!B$56,"")
... H4999: =IF(B4999<>"",Instrucciones!B$56,"")

Sheet NO DOCENTES
A1: CÓDIGO DE CENTRO | B1: NIF/NIE | C1: NOMBRE | D1: APELLIDO1 | E1: APELLIDO2 | F1: Fecha de nacimiento | G1: Sexo | H1: CATEGORÍA | I1: Tipo de enseñanza | J1: CIA
H2: =IF(B2<>"",Instrucciones!B$57,"")
H3: =IF(B3<>"",Instrucciones!B$57,"")
H4: =IF(B4<>"",Instrucciones!B$57,"")
H5: =IF(B5<>"",Instrucciones!B$57,"")
H6: =IF(B6<>"",Instrucciones!B$57,"")
H7: =IF(B7<>"",Instrucciones!B$57,"")
H8: =IF(B8<>"",Instrucciones!B$57,"")
H9: =IF(B9<>"",Instrucciones!B$57,"")
H10: =IF(B10<>"",Instrucciones!B$57,"")
H11: =IF(B11<>"",Instrucciones!B$57,"")
H12: =IF(B12<>"",Instrucciones!B$57,"")
H13: =IF(B13<>"",Instrucciones!B$57,"")
... H4999: =IF(B4999<>"",Instrucciones!B$57,"")

Sheet NOMBRE CORPORACIÓN
A1: DATOS DEL AYUNTAMIENTO
A2: Dirección
A3: localidad
A4: provincia
A5: Nombre del titular de la corporación.
A6: Correo electrónico
A7: Teléfono de contacto
